Workbook

Sheet Impreso de Licencias
D1: 2025 | F1: Firma y Sello del Club
B2: CLUB O ENTIDAD: | F2: =IF(ISBLANK(A10),"",IF(CELL("contenido",T4)<>"",CELL("contenido",T4),CELL("contenido",T6))) | R2: Margen de fecha | S2: Sexo (H/M) | T2: Texto de errores | W2: HABILITACIÓN FEE
B3: DOMICILIO CLUB: | C3: =IF(C2="","",LOOKUP(C2,W26:W44,X26:X44)) | R3: =TODAY() -> 45655 | S3: H | W3: 1
B4: POBLACION: | C4: =IF(C2="","",LOOKUP(C2,W26:W44,Z26:Z44)) | D4: =IF(C2="","",LOOKUP(C2,W26:W44,Y26:Y44)) | F4: =IF(OR(C2="",C3="",C4="",D4="",C5=""),"Termina de rellenar la Cabecera","") -> Termina de rellenar la Cabecera | R4: =R3-C5 -> 45655 | S4: M | T4: =IF(SUM(Q10:Q48)="","",IF(SUM(Q10:Q48)>=1,"Introduce una sola opción","")) | W4: 0
B5: FECHA: | F5: =T7 | R5: =IF((R4>15),1,"") -> 1
A6: =IF(AND(R5=1,R6=1),"Actualiza la fecha de la Cabecera","") | R6: =IF((A10=""),0,1) -> 0 | T6: =IF(SUM(R10:R48)="","",IF(SUM(R10:R48)>=1,"Has marcado varias opciones",""))
A7: DNI/NIF | B7: NOMBRE | C7: APELLIDOS | D7: FECHA NAC. | E7: SEXO (H/M) | F7: DIRECCION | G7: C.P. | H7: POBLACION | I7: LICENCIA | O7: HABILITACIÓN FEE | P7: E-mail | T7: =IF(SUM(S10:S48)="","",IF(SUM(S10:S48)<>0,"Introduce la Fecha de Nacimiento",""))
I8: BASICA | L8: PLUS | O8: Marque 1 por habilitad@ (incremento de 1 € a sumar al pago de la licencia,
I9: A | J9: B | K9: B1 | L9: A | M9: B | N9: B1 | O9: JUVENILES E INFANTILES EXENTOS DE PAGO | Q9: Códigos de error | U9: =IF((D26=""),"",DATEDIF(D26,C5,"Y"))
Q10: =IF(A10="","",IF(COUNTA(I10:N10)=0,1,"")) | R10: =IF(A10="","",IF(COUNTA(I10:N10)>1,1,"")) | S10: =IF(OR(ISBLANK(A10),ISBLANK(B10),ISBLANK(C10)),"",IF(ISBLANK(D10),1,"")) | U10: =IF((D10=""),"",DATEDIF(D10,$C$5,"Y"))
Q11: =IF(A11="","",IF(COUNTA(I11:N11)=0,1,"")) | R11: =IF(A11="","",IF(COUNTA(I11:N11)>1,1,"")) | S11: =IF(OR(ISBLANK(A11),ISBLANK(B11),ISBLANK(#REF!)),"",IF(ISBLANK(D11),1,"")) | U11: =IF((D11=""),"",DATEDIF(D11,$C$5,"Y"))
Q12: =IF(A12="","",IF(COUNTA(I12:N12)=0,1,"")) | R12: =IF(A12="","",IF(COUNTA(I12:N12)>1,1,"")) | S12: =IF(OR(ISBLANK(A12),ISBLANK(B12),ISBLANK(#REF!)),"",IF(ISBLANK(D12),1,"")) | U12: =IF((D12=""),"",DATEDIF(D12,$C$5,"Y"))
Q13: =IF(A13="","",IF(COUNTA(I13:N13)=0,1,"")) | R13: =IF(A13="","",IF(COUNTA(I13:N13)>1,1,"")) | S13: =IF(OR(ISBLANK(A13),ISBLANK(B13),ISBLANK(#REF!)),"",IF(ISBLANK(D13),1,"")) | U13: =IF((D13=""),"",DATEDIF(D13,$C$5,"Y"))
Q14: =IF(A14="","",IF(COUNTA(I14:N14)=0,1,"")) | R14: =IF(A14="","",IF(COUNTA(I14:N14)>1,1,"")) | S14: =IF(OR(ISBLANK(A14),ISBLANK(B14),ISBLANK(#REF!)),"",IF(ISBLANK(D14),1,"")) | U14: =IF((D14=""),"",DATEDIF(D14,$C$5,"Y"))
Q15: =IF(A15="","",IF(COUNTA(I15:N15)=0,1,"")) | R15: =IF(A15="","",IF(COUNTA(I15:N15)>1,1,"")) | S15: =IF(OR(ISBLANK(A15),ISBLANK(B15),ISBLANK(#REF!)),"",IF(ISBLANK(D15),1,"")) | U15: =IF((D15=""),"",DATEDIF(D15,$C$5,"Y"))
Q16: =IF(A16="","",IF(COUNTA(I16:N16)=0,1,"")) | R16: =IF(A16="","",IF(COUNTA(I16:N16)>1,1,"")) | S16: =IF(OR(ISBLANK(A16),ISBLANK(B16),ISBLANK(#REF!)),"",IF(ISBLANK(D16),1,"")) | U16: =IF((D16=""),"",DATEDIF(D16,$C$5,"Y"))
Q17: =IF(A17="","",IF(COUNTA(I17:N17)=0,1,"")) | R17: =IF(A17="","",IF(COUNTA(I17:N17)>1,1,"")) | S17: =IF(OR(ISBLANK(A17),ISBLANK(B17),ISBLANK(#REF!)),"",IF(ISBLANK(D17),1,"")) | U17: =IF((D17=""),"",DATEDIF(D17,$C$5,"Y"))
Q18: =IF(A18="","",IF(COUNTA(I18:N18)=0,1,"")) | R18: =IF(A18="","",IF(COUNTA(I18:N18)>1,1,"")) | S18: =IF(OR(ISBLANK(A18),ISBLANK(B18),ISBLANK(#REF!)),"",IF(ISBLANK(D18),1,"")) | U18: =IF((D18=""),"",DATEDIF(D18,$C$5,"Y"))
Q19: =IF(A19="","",IF(COUNTA(I19:N19)=0,1,"")) | R19: =IF(A19="","",IF(COUNTA(I19:N19)>1,1,"")) | S19: =IF(OR(ISBLANK(A19),ISBLANK(B19),ISBLANK(#REF!)),"",IF(ISBLANK(D19),1,"")) | U19: =IF((D19=""),"",DATEDIF(D19,$C$5,"Y"))
Q20: =IF(A20="","",IF(COUNTA(I20:N20)=0,1,"")) | R20: =IF(A20="","",IF(COUNTA(I20:N20)>1,1,"")) | S20: =IF(OR(ISBLANK(A20),ISBLANK(B20),ISBLANK(#REF!)),"",IF(ISBLANK(D20),1,"")) | U20: =IF((D20=""),"",DATEDIF(D20,$C$5,"Y"))
Q21: =IF(A21="","",IF(COUNTA(I21:N21)=0,1,"")) | R21: =IF(A21="","",IF(COUNTA(I21:N21)>1,1,"")) | S21: =IF(OR(ISBLANK(A21),ISBLANK(B21),ISBLANK(#REF!)),"",IF(ISBLANK(D21),1,"")) | U21: =IF((D21=""),"",DATEDIF(D21,$C$5,"Y"))
Q22: =IF(A22="","",IF(COUNTA(I22:N22)=0,1,"")) | R22: =IF(A22="","",IF(COUNTA(I22:N22)>1,1,"")) | S22: =IF(OR(ISBLANK(A22),ISBLANK(B22),ISBLANK(#REF!)),"",IF(ISBLANK(D22),1,"")) | U22: =IF((D22=""),"",DATEDIF(D22,$C$5,"Y"))
Q23: =IF(A23="","",IF(COUNTA(I23:N23)=0,1,"")) | R23: =IF(A23="","",IF(COUNTA(I23:N23)>1,1,"")) | S23: =IF(OR(ISBLANK(A23),ISBLANK(B23),ISBLANK(#REF!)),"",IF(ISBLANK(D23),1,"")) | U23: =IF((D23=""),"",DATEDIF(D23,$C$5,"Y"))
Q24: =IF(A24="","",IF(COUNTA(I24:N24)=0,1,"")) | R24: =IF(A24="","",IF(COUNTA(I24:N24)>1,1,"")) | S24: =IF(OR(ISBLANK(A24),ISBLANK(B24),ISBLANK(#REF!)),"",IF(ISBLANK(D24),1,"")) | U24: =IF((D24=""),"",DATEDIF(D24,$C$5,"Y")) | W24: Listado de Grupos Cántabros
Q25: =IF(A25="","",IF(COUNTA(I25:N25)=0,1,"")) | R25: =IF(A25="","",IF(COUNTA(I25:N25)>1,1,"")) | S25: =IF(OR(ISBLANK(A25),ISBLANK(B25),ISBLANK(#REF!)),"",IF(ISBLANK(D25),1,"")) | U25: =IF((D25=""),"",DATEDIF(D25,$C$5,"Y"))
Q26: =IF(A26="","",IF(COUNTA(I26:N26)=0,1,"")) | R26: =IF(A26="","",IF(COUNTA(I26:N26)>1,1,"")) | S26: =IF(OR(ISBLANK(A26),ISBLANK(B26),ISBLANK(#REF!)),"",IF(ISBLANK(D26),1,"")) | U26: =IF((D26=""),"",DATEDIF(D26,$C$5,"Y"))
Q27: =IF(A27="","",IF(COUNTA(I27:N27)=0,1,"")) | R27: =IF(A27="","",IF(COUNTA(I27:N27)>1,1,"")) | S27: =IF(OR(ISBLANK(A27),ISBLANK(B27),ISBLANK(#REF!)),"",IF(ISBLANK(D27),1,"")) | U27: =IF((D27=""),"",DATEDIF(D27,$C$5,"Y")) | W27: A.D. Espeleo y Montaña Colindres | X27: C/ Heliodoro Fernández, Nº16, 2ª Planta Casa de los Maestros | Y27: 39750 | Z27: Colindres
Q28: =IF(A28="","",IF(COUNTA(I28:N28)=0,1,"")) | R28: =IF(A28="","",IF(COUNTA(I28:N28)>1,1,"")) | S28: =IF(OR(ISBLANK(A28),ISBLANK(B28),ISBLANK(#REF!)),"",IF(ISBLANK(D28),1,"")) | U28: =IF((D28=""),"",DATEDIF(D28,$C$5,"Y")) | W28: A.E.M. Trasmiera | X28: C./ Alameda, 4 Bajos | Y28: 39740 | Z28: Santoña
Q29: =IF(A29="","",IF(COUNTA(I29:N29)=0,1,"")) | R29: =IF(A29="","",IF(COUNTA(I29:N29)>1,1,"")) | S29: =IF(OR(ISBLANK(A29),ISBLANK(B29),ISBLANK(#REF!)),"",IF(ISBLANK(D29),1,"")) | U29: =IF((D29=""),"",DATEDIF(D29,$C$5,"Y")) | W29: Asociación Espeleológica Ramaliega | X29: Apartado de Correos Nº8 | Y29: 39800 | Z29: Ramales de la Victoria
Q30: =IF(A30="","",IF(COUNTA(I30:N30)=0,1,"")) | R30: =IF(A30="","",IF(COUNTA(I30:N30)>1,1,"")) | S30: =IF(OR(ISBLANK(A30),ISBLANK(B30),ISBLANK(#REF!)),"",IF(ISBLANK(D30),1,"")) | U30: =IF((D30=""),"",DATEDIF(D30,$C$5,"Y")) | W30: Club Cántabro de Exploraciones Subterráneas | X30: C./ Alday Nº1, 1º G | Y30: 39600 | Z30: Maliaño
Q31: =IF(A31="","",IF(COUNTA(I31:N31)=0,1,"")) | R31: =IF(A31="","",IF(COUNTA(I31:N31)>1,1,"")) | S31: =IF(OR(ISBLANK(A31),ISBLANK(B31),ISBLANK(#REF!)),"",IF(ISBLANK(D31),1,"")) | U31: =IF((D31=""),"",DATEDIF(D31,$C$5,"Y")) | W31: Club de Espeleología La Cambera | X31: Bº La Iglesia, Nº31 | Y31: 39793 | Z31: Ribamontán al Monte (Cubas)
Q32: =IF(A32="","",IF(COUNTA(I32:N32)=0,1,"")) | R32: =IF(A32="","",IF(COUNTA(I32:N32)>1,1,"")) | S32: =IF(OR(ISBLANK(A32),ISBLANK(B32),ISBLANK(#REF!)),"",IF(ISBLANK(D32),1,"")) | U32: =IF((D32=""),"",DATEDIF(D32,$C$5,"Y")) | W32: Club Deportivo Cota Mínima Cantabria | X32: C/ Dos de Mayo, Nº4, 4º A | Y32: 39400 | Z32: Los Corrales de Buelna
Q33: =IF(A33="","",IF(COUNTA(I33:N33)=0,1,"")) | R33: =IF(A33="","",IF(COUNTA(I33:N33)>1,1,"")) | S33: =IF(OR(ISBLANK(A33),ISBLANK(B33),ISBLANK(#REF!)),"",IF(ISBLANK(D33),1,"")) | U33: =IF((D33=""),"",DATEDIF(D33,$C$5,"Y")) | W33: Club Deportivo Lábarum | X33: Bº Real Sitio, Nº 5 | Y33: 39720 | Z33: La Cavada
Q34: =IF(A34="","",IF(COUNTA(I34:N34)=0,1,"")) | R34: =IF(A34="","",IF(COUNTA(I34:N34)>1,1,"")) | S34: =IF(OR(ISBLANK(A34),ISBLANK(B34),ISBLANK(#REF!)),"",IF(ISBLANK(D34),1,"")) | U34: =IF((D34=""),"",DATEDIF(D34,$C$5,"Y")) | W34: Club Deportivo Ozono | X34: Avda. Oviedo nº 20 – Bloque K Bajo | Y34: 39710 | Z34: Solares
Q35: =IF(A35="","",IF(COUNTA(I35:N35)=0,1,"")) | R35: =IF(A35="","",IF(COUNTA(I35:N35)>1,1,"")) | S35: =IF(OR(ISBLANK(A35),ISBLANK(B35),ISBLANK(#REF!)),"",IF(ISBLANK(D35),1,"")) | U35: =IF((D35=""),"",DATEDIF(D35,$C$5,"Y")) | W35: Club Montaña y Espeleología PROTEUS | X35: Bº Calseca, 3 | Y35: 39728 | Z35: Ruesga
Q36: =IF(A36="","",IF(COUNTA(I36:N36)=0,1,"")) | R36: =IF(A36="","",IF(COUNTA(I36:N36)>1,1,"")) | S36: =IF(OR(ISBLANK(A36),ISBLANK(B36),ISBLANK(#REF!)),"",IF(ISBLANK(D36),1,"")) | U36: =IF((D36=""),"",DATEDIF(D36,$C$5,"Y")) | W36: Espeleo Club Ábrigu | X36: Urb. Ría del Pas, 210 | Y36: 39478 | Z36: Boo de Piélagos
Q37: =IF(A37="","",IF(COUNTA(I37:N37)=0,1,"")) | R37: =IF(A37="","",IF(COUNTA(I37:N37)>1,1,"")) | S37: =IF(OR(ISBLANK(A37),ISBLANK(B37),ISBLANK(#REF!)),"",IF(ISBLANK(D37),1,"")) | U37: =IF((D37=""),"",DATEDIF(D37,$C$5,"Y")) | W37: G.E. Deportes Espeleo | X37: Barrio el Mazo, Nº14 | Y37: 39800 | Z37: Ramales de la Victoria
Q38: =IF(A38="","",IF(COUNTA(I38:N38)=0,1,"")) | R38: =IF(A38="","",IF(COUNTA(I38:N38)>1,1,"")) | S38: =IF(OR(ISBLANK(A38),ISBLANK(B38),ISBLANK(#REF!)),"",IF(ISBLANK(D38),1,"")) | U38: =IF((D38=""),"",DATEDIF(D38,$C$5,"Y")) | W38: G.E.S. del C.A. Tajahierro | X38: C./ Rubio Nº2, 2º Izda. | Y38: 39001 | Z38: Santander
... Q44: =IF(A44="","",IF(COUNTA(I44:N44)=0,1,"")) | R44: =IF(A44="","",IF(COUNTA(I44:N44)>1,1,"")) | S44: =IF(OR(ISBLANK(A44),ISBLANK(B44),ISBLANK(#REF!)),"",IF(ISBLANK(D44),1,"")) | U44: =IF((D44=""),"",DATEDIF(D44,$C$5,"Y")) | W44: Speleo Club Cántabro | X44: Colonia de Los Pinares, 7 Bajo B-7 | Y44: 39005 | Z44: Santander
Q45: =IF(A45="","",IF(COUNTA(I45:N45)=0,1,"")) | R45: =IF(A45="","",IF(COUNTA(I45:N45)>1,1,"")) | S45: =IF(OR(ISBLANK(A45),ISBLANK(B45),ISBLANK(#REF!)),"",IF(ISBLANK(D45),1,"")) | U45: =IF((D45=""),"",DATEDIF(D45,$C$5,"Y"))
...

Sheet Resumen
B1: LISTADO DE FEDERADOS | E1: Fecha del informe | G1: ='Impreso de Licencias'!C5 -> 0 | V1: =CONCATENATE("Precio de las Licencias ",'Impreso de Licencias'!D1) -> Precio de las Licencias 2025 | AB1: Desglose de mis licencias
B2: Licencias expedidas desde | F2: hasta | AH2: Total a Ingresar ……………….……… | AL2: =(AD4*W4)+(AE4*X4)+(AF4*Y4)+(AD5*W5)+(AE5*X5)+(AF5*Y5)+(AD6*W6)+(AE6*X6)+(AF6*Y6)+(AD7*W7)+(AE7*X7)+(AF7*Y7)+(AD8*W8)+(AE8*X8)+(AF8*Y8)+(AD9*W9)+(AE9*X9)+(AF9*Y9)+(AD11) -> 0
B3: D.N.I. | C3: Nombre | D3: Apellidos | E3: Fecha Nacimiento | F3: Fecha Expedición | G3: Categoria | H3: Tipo de licencia | I3: Habilitacion FEE | J3: Dirección | K3: C.P. | L3: Población | M3: Entidad Deportiva | S3: SEXO (H/M) | W3: Mayores (> 18 años) | X3: Juveniles (14 a 17 años) | Y3: Infantiles (hasta 13 años) | AD3: Mayor | AE3: Juvenil | AF3: Infantil
V4: Básica A | W4: 52 | X4: 22 | Y4: 18 | AB4: Licencias Básica A
B5: =IF('Impreso de Licencias'!A10="","",CELL("contenido",'Impreso de Licencias'!A10)) | C5: =IF('Impreso de Licencias'!A10="","",PROPER((CELL("contenido",'Impreso de Licencias'!B10)))) | D5: =IF('Impreso de Licencias'!A10="","",PROPER((CELL("contenido",'Impreso de Licencias'!C10)))) | E5: =IF('Impreso de Licencias'!A10="","",CELL("contenido",'Impreso de Licencias'!D10)) | F5: =IF(B5="","",IF($G$1="","",$G$1)) | G5: =IF(B5="","",IF('Impreso de Licencias'!U10>=18,"Mayor",IF('Impreso de Licencias'!U10>=14,"Juvenil","Infantil"))) | H5: =IF(B5="","",IF(MATCH("X",'Impreso de Licencias'!I10:N10,0)=1,"Básica A",IF(MATCH("X",'Impreso de Licencias'!I10:N10,0)=2,"Básica B",IF(MATCH("X",'Impreso de Licencias'!I10:N10,0)=3,"Básica B1",IF(MATCH("X",'Impreso de Licencias'!I10:N10,0)=4,"Plus A",IF(MATCH("X",'Impreso de Licencias'!I10:N10,0)=5,"Plus B",IF(MATCH("X",'Impreso de Licencias'!I10:N10,0)=6,"Plus B1"))))))) | I5: ='Impreso de Licencias'!O10 -> 0 | J5: =IF('Impreso de Licencias'!A10="","",PROPER((CELL("contenido",'Impreso de Licencias'!F10)))) | K5: =IF('Impreso de Licencias'!A10="","",CELL("contenido",'Impreso de Licencias'!G10)) | L5: =IF('Impreso de Licencias'!A10="","",PROPER((CELL("contenido",'Impreso de Licencias'!H10)))) | M5: =IF('Impreso de Licencias'!A10="","",'Impreso de Licencias'!$C$2) | S5: =IF('Impreso de Licencias'!A10="","",PROPER((CELL("contenido",'Impreso de Licencias'!E10)))) | V5: Básica B | W5: 70 | X5: 35 | Y5: 30 | AB5: Licencias Básica B | AF5: 0 | AH5: Ingresar en Unicaja
B6: =IF('Impreso de Licencias'!A11="","",CELL("contenido",'Impreso de Licencias'!A11)) | C6: =IF('Impreso de Licencias'!A11="","",PROPER((CELL("contenido",'Impreso de Licencias'!B11)))) | D6: =IF('Impreso de Licencias'!A11="","",PROPER((CELL("contenido",'Impreso de Licencias'!C11)))) | E6: =IF('Impreso de Licencias'!A11="","",CELL("contenido",'Impreso de Licencias'!D11)) | F6: =IF(B6="","",IF($G$1="","",$G$1)) | G6: =IF(B6="","",IF('Impreso de Licencias'!U11>=18,"Mayor",IF('Impreso de Licencias'!U11>=14,"Juvenil","Infantil"))) | H6: =IF(B6="","",IF(MATCH("X",'Impreso de Licencias'!I11:N11,0)=1,"Básica A",IF(MATCH("X",'Impreso de Licencias'!I11:N11,0)=2,"Básica B",IF(MATCH("X",'Impreso de Licencias'!I11:N11,0)=3,"Básica B1",IF(MATCH("X",'Impreso de Licencias'!I11:N11,0)=4,"Plus A",IF(MATCH("X",'Impreso de Licencias'!I11:N11,0)=5,"Plus B",IF(MATCH("X",'Impreso de Licencias'!I11:N11,0)=6,"Plus B1"))))))) | I6: ='Impreso de Licencias'!O11 -> 0 | J6: =IF('Impreso de Licencias'!A11="","",PROPER((CELL("contenido",'Impreso de Licencias'!F11)))) | K6: =IF('Impreso de Licencias'!A11="","",CELL("contenido",'Impreso de Licencias'!G11)) | L6: =IF('Impreso de Licencias'!A11="","",PROPER((CELL("contenido",'Impreso de Licencias'!H11)))) | M6: =IF('Impreso de Licencias'!A11="","",'Impreso de Licencias'!$C$2) | S6: =IF('Impreso de Licencias'!A11="","",PROPER((CELL("contenido",'Impreso de Licencias'!E11)))) | V6: Básica B1 | W6: 87 | X6: 67 | Y6: 65 | AB6: Licencias Básica B1 | AD6: 0 | AE6: 0 | AF6: 0 | AH6: ES82 2103 7143 8500 3006 2620
B7: =IF('Impreso de Licencias'!A12="","",CELL("contenido",'Impreso de Licencias'!A12)) | C7: =IF('Impreso de Licencias'!A12="","",PROPER((CELL("contenido",'Impreso de Licencias'!B12)))) | D7: =IF('Impreso de Licencias'!A12="","",PROPER((CELL("contenido",'Impreso de Licencias'!C12)))) | E7: =IF('Impreso de Licencias'!A12="","",CELL("contenido",'Impreso de Licencias'!D12)) | F7: =IF(B7="","",IF($G$1="","",$G$1)) | G7: =IF(B7="","",IF('Impreso de Licencias'!U12>=18,"Mayor",IF('Impreso de Licencias'!U12>=14,"Juvenil","Infantil"))) | H7: =IF(B7="","",IF(MATCH("X",'Impreso de Licencias'!I12:N12,0)=1,"Básica A",IF(MATCH("X",'Impreso de Licencias'!I12:N12,0)=2,"Básica B",IF(MATCH("X",'Impreso de Licencias'!I12:N12,0)=3,"Básica B1",IF(MATCH("X",'Impreso de Licencias'!I12:N12,0)=4,"Plus A",IF(MATCH("X",'Impreso de Licencias'!I12:N12,0)=5,"Plus B",IF(MATCH("X",'Impreso de Licencias'!I12:N12,0)=6,"Plus B1"))))))) | I7: ='Impreso de Licencias'!O12 -> 0 | J7: =IF('Impreso de Licencias'!A12="","",PROPER((CELL("contenido",'Impreso de Licencias'!F12)))) | K7: =IF('Impreso de Licencias'!A12="","",CELL("contenido",'Impreso de Licencias'!G12)) | L7: =IF('Impreso de Licencias'!A12="","",PROPER((CELL("contenido",'Impreso de Licencias'!H12)))) | M7: =IF('Impreso de Licencias'!A12="","",'Impreso de Licencias'!$C$2) | S7: =IF('Impreso de Licencias'!A12="","",PROPER((CELL("contenido",'Impreso de Licencias'!E12)))) | V7: Plus A | W7: 90 | X7: 69 | Y7: 64 | AB7: Licencias Plus A | AD7: 0 | AE7: 0 | AF7: 0
B8: =IF('Impreso de Licencias'!A13="","",CELL("contenido",'Impreso de Licencias'!A13)) | C8: =IF('Impreso de Licencias'!A13="","",PROPER((CELL("contenido",'Impreso de Licencias'!B13)))) | D8: =IF('Impreso de Licencias'!A13="","",PROPER((CELL("contenido",'Impreso de Licencias'!C13)))) | E8: =IF('Impreso de Licencias'!A13="","",CELL("contenido",'Impreso de Licencias'!D13)) | F8: =IF(B8="","",IF($G$1="","",$G$1)) | G8: =IF(B8="","",IF('Impreso de Licencias'!U13>=18,"Mayor",IF('Impreso de Licencias'!U13>=14,"Juvenil","Infantil"))) | H8: =IF(B8="","",IF(MATCH("X",'Impreso de Licencias'!I13:N13,0)=1,"Básica A",IF(MATCH("X",'Impreso de Licencias'!I13:N13,0)=2,"Básica B",IF(MATCH("X",'Impreso de Licencias'!I13:N13,0)=3,"Básica B1",IF(MATCH("X",'Impreso de Licencias'!I13:N13,0)=4,"Plus A",IF(MATCH("X",'Impreso de Licencias'!I13:N13,0)=5,"Plus B",IF(MATCH("X",'Impreso de Licencias'!I13:N13,0)=6,"Plus B1"))))))) | I8: ='Impreso de Licencias'!O13 -> 0 | J8: =IF('Impreso de Licencias'!A13="","",PROPER((CELL("contenido",'Impreso de Licencias'!F13)))) | K8: =IF('Impreso de Licencias'!A13="","",CELL("contenido",'Impreso de Licencias'!G13)) | L8: =IF('Impreso de Licencias'!A13="","",PROPER((CELL("contenido",'Impreso de Licencias'!H13)))) | M8: =IF('Impreso de Licencias'!A13="","",'Impreso de Licencias'!$C$2) | S8: =IF('Impreso de Licencias'!A13="","",PROPER((CELL("contenido",'Impreso de Licencias'!E13)))) | V8: Plus B | W8: 107 | X8: 76 | Y8: 68 | AB8: Licencias Plus B | AD8: 0 | AE8: 0 | AF8: 0
B9: =IF('Impreso de Licencias'!A14="","",CELL("contenido",'Impreso de Licencias'!A14)) | C9: =IF('Impreso de Licencias'!A14="","",PROPER((CELL("contenido",'Impreso de Licencias'!B14)))) | D9: =IF('Impreso de Licencias'!A14="","",PROPER((CELL("contenido",'Impreso de Licencias'!C14)))) | E9: =IF('Impreso de Licencias'!A14="","",CELL("contenido",'Impreso de Licencias'!D14)) | F9: =IF(B9="","",IF($G$1="","",$G$1)) | G9: =IF(B9="","",IF('Impreso de Licencias'!U14>=18,"Mayor",IF('Impreso de Licencias'!U14>=14,"Juvenil","Infantil"))) | H9: =IF(B9="","",IF(MATCH("X",'Impreso de Licencias'!I14:N14,0)=1,"Básica A",IF(MATCH("X",'Impreso de Licencias'!I14:N14,0)=2,"Básica B",IF(MATCH("X",'Impreso de Licencias'!I14:N14,0)=3,"Básica B1",IF(MATCH("X",'Impreso de Licencias'!I14:N14,0)=4,"Plus A",IF(MATCH("X",'Impreso de Licencias'!I14:N14,0)=5,"Plus B",IF(MATCH("X",'Impreso de Licencias'!I14:N14,0)=6,"Plus B1"))))))) | I9: ='Impreso de Licencias'!O14 -> 0 | J9: =IF('Impreso de Licencias'!A14="","",PROPER((CELL("contenido",'Impreso de Licencias'!F14)))) | K9: =IF('Impreso de Licencias'!A14="","",CELL("contenido",'Impreso de Licencias'!G14)) | L9: =IF('Impreso de Licencias'!A14="","",PROPER((CELL("contenido",'Impreso de Licencias'!H14)))) | M9: =IF('Impreso de Licencias'!A14="","",'Impreso de Licencias'!$C$2) | S9: =IF('Impreso de Licencias'!A14="","",PROPER((CELL("contenido",'Impreso de Licencias'!E14)))) | V9: Plus B1 | W9: 151 | X9: 133 | Y9: 132 | AB9: Licencias Plus B1 | AD9: 0 | AE9: 0 | AF9: 0 | AH9: Enviar archivo y justificante del pago a la dirección
B10: =IF('Impreso de Licencias'!A15="","",CELL("contenido",'Impreso de Licencias'!A15)) | C10: =IF('Impreso de Licencias'!A15="","",PROPER((CELL("contenido",'Impreso de Licencias'!B15)))) | D10: =IF('Impreso de Licencias'!A15="","",PROPER((CELL("contenido",'Impreso de Licencias'!C15)))) | E10: =IF('Impreso de Licencias'!A15="","",CELL("contenido",'Impreso de Licencias'!D15)) | F10: =IF(B10="","",IF($G$1="","",$G$1)) | G10: =IF(B10="","",IF('Impreso de Licencias'!U15>=18,"Mayor",IF('Impreso de Licencias'!U15>=14,"Juvenil","Infantil"))) | H10: =IF(B10="","",IF(MATCH("X",'Impreso de Licencias'!I15:N15,0)=1,"Básica A",IF(MATCH("X",'Impreso de Licencias'!I15:N15,0)=2,"Básica B",IF(MATCH("X",'Impreso de Licencias'!I15:N15,0)=3,"Básica B1",IF(MATCH("X",'Impreso de Licencias'!I15:N15,0)=4,"Plus A",IF(MATCH("X",'Impreso de Licencias'!I15:N15,0)=5,"Plus B",IF(MATCH("X",'Impreso de Licencias'!I15:N15,0)=6,"Plus B1"))))))) | I10: ='Impreso de Licencias'!O15 -> 0 | J10: =IF('Impreso de Licencias'!A15="","",PROPER((CELL("contenido",'Impreso de Licencias'!F15)))) | K10: =IF('Impreso de Licencias'!A15="","",CELL("contenido",'Impreso de Licencias'!G15)) | L10: =IF('Impreso de Licencias'!A15="","",PROPER((CELL("contenido",'Impreso de Licencias'!H15)))) | M10: =IF('Impreso de Licencias'!A15="","",'Impreso de Licencias'!$C$2) | S10: =IF('Impreso de Licencias'!A15="","",PROPER((CELL("contenido",'Impreso de Licencias'!E15)))) | AH10: licencias@espeleocantabria.net
B11: =IF('Impreso de Licencias'!A16="","",CELL("contenido",'Impreso de Licencias'!A16)) | C11: =IF('Impreso de Licencias'!A16="","",PROPER((CELL("contenido",'Impreso de Licencias'!B16)))) | D11: =IF('Impreso de Licencias'!A16="","",PROPER((CELL("contenido",'Impreso de Licencias'!C16)))) | E11: =IF('Impreso de Licencias'!A16="","",CELL("contenido",'Impreso de Licencias'!D16)) | F11: =IF(B11="","",IF($G$1="","",$G$1)) | G11: =IF(B11="","",IF('Impreso de Licencias'!U16>=18,"Mayor",IF('Impreso de Licencias'!U16>=14,"Juvenil","Infantil"))) | H11: =IF(B11="","",IF(MATCH("X",'Impreso de Licencias'!I16:N16,0)=1,"Básica A",IF(MATCH("X",'Impreso de Licencias'!I16:N16,0)=2,"Básica B",IF(MATCH("X",'Impreso de Licencias'!I16:N16,0)=3,"Básica B1",IF(MATCH("X",'Impreso de Licencias'!I16:N16,0)=4,"Plus A",IF(MATCH("X",'Impreso de Licencias'!I16:N16,0)=5,"Plus B",IF(MATCH("X",'Impreso de Licencias'!I16:N16,0)=6,"Plus B1"))))))) | I11: ='Impreso de Licencias'!O16 -> 0 | J11: =IF('Impreso de Licencias'!A16="","",PROPER((CELL("contenido",'Impreso de Licencias'!F16)))) | K11: =IF('Impreso de Licencias'!A16="","",CELL("contenido",'Impreso de Licencias'!G16)) | L11: =IF('Impreso de Licencias'!A16="","",PROPER((CELL("contenido",'Impreso de Licencias'!H16)))) | M11: =IF('Impreso de Licencias'!A16="","",'Impreso de Licencias'!$C$2) | S11: =IF('Impreso de Licencias'!A16="","",PROPER((CELL("contenido",'Impreso de Licencias'!E16)))) | AB11: Habiltaciones FEE | AD11: =SUMPRODUCT((I5:I46)) -> 0
B12: =IF('Impreso de Licencias'!A17="","",CELL("contenido",'Impreso de Licencias'!A17)) | C12: =IF('Impreso de Licencias'!A17="","",PROPER((CELL("contenido",'Impreso de Licencias'!B17)))) | D12: =IF('Impreso de Licencias'!A17="","",PROPER((CELL("contenido",'Impreso de Licencias'!C17)))) | E12: =IF('Impreso de Licencias'!A17="","",CELL("contenido",'Impreso de Licencias'!D17)) | F12: =IF(B12="","",IF($G$1="","",$G$1)) | G12: =IF(B12="","",IF('Impreso de Licencias'!U17>=18,"Mayor",IF('Impreso de Licencias'!U17>=14,"Juvenil","Infantil"))) | H12: =IF(B12="","",IF(MATCH("X",'Impreso de Licencias'!I17:N17,0)=1,"Básica A",IF(MATCH("X",'Impreso de Licencias'!I17:N17,0)=2,"Básica B",IF(MATCH("X",'Impreso de Licencias'!I17:N17,0)=3,"Básica B1",IF(MATCH("X",'Impreso de Licencias'!I17:N17,0)=4,"Plus A",IF(MATCH("X",'Impreso de Licencias'!I17:N17,0)=5,"Plus B",IF(MATCH("X",'Impreso de Licencias'!I17:N17,0)=6,"Plus B1"))))))) | I12: ='Impreso de Licencias'!O17 -> 0 | J12: =IF('Impreso de Licencias'!A17="","",PROPER((CELL("contenido",'Impreso de Licencias'!F17)))) | K12: =IF('Impreso de Licencias'!A17="","",CELL("contenido",'Impreso de Licencias'!G17)) | L12: =IF('Impreso de Licencias'!A17="","",PROPER((CELL("contenido",'Impreso de Licencias'!H17)))) | M12: =IF('Impreso de Licencias'!A17="","",'Impreso de Licencias'!$C$2) | S12: =IF('Impreso de Licencias'!A17="","",PROPER((CELL("contenido",'Impreso de Licencias'!E17)))) | V12: Cuota de Club* | Y12: 30 | AB12: Total federados | AE12: =AD4+AE4+AF4+AD5+AE5+AF5+AD6+AE6+AF6+AD7+AE7+AF7+AD8+AE8+AF8+AD9+AE9+AF9 -> 0 | AH12: Enviar el archivo con el nombre:
B13: =IF('Impreso de Licencias'!A18="","",CELL("contenido",'Impreso de Licencias'!A18)) | C13: =IF('Impreso de Licencias'!A18="","",PROPER((CELL("contenido",'Impreso de Licencias'!B18)))) | D13: =IF('Impreso de Licencias'!A18="","",PROPER((CELL("contenido",'Impreso de Licencias'!C18)))) | E13: =IF('Impreso de Licencias'!A18="","",CELL("contenido",'Impreso de Licencias'!D18)) | F13: =IF(B13="","",IF($G$1="","",$G$1)) | G13: =IF(B13="","",IF('Impreso de Licencias'!U18>=18,"Mayor",IF('Impreso de Licencias'!U18>=14,"Juvenil","Infantil"))) | H13: =IF(B13="","",IF(MATCH("X",'Impreso de Licencias'!I18:N18,0)=1,"Básica A",IF(MATCH("X",'Impreso de Licencias'!I18:N18,0)=2,"Básica B",IF(MATCH("X",'Impreso de Licencias'!I18:N18,0)=3,"Básica B1",IF(MATCH("X",'Impreso de Licencias'!I18:N18,0)=4,"Plus A",IF(MATCH("X",'Impreso de Licencias'!I18:N18,0)=5,"Plus B",IF(MATCH("X",'Impreso de Licencias'!I18:N18,0)=6,"Plus B1"))))))) | I13: ='Impreso de Licencias'!O18 -> 0 | J13: =IF('Impreso de Licencias'!A18="","",PROPER((CELL("contenido",'Impreso de Licencias'!F18)))) | K13: =IF('Impreso de Licencias'!A18="","",CELL("contenido",'Impreso de Licencias'!G18)) | L13: =IF('Impreso de Licencias'!A18="","",PROPER((CELL("contenido",'Impreso de Licencias'!H18)))) | M13: =IF('Impreso de Licencias'!A18="","",'Impreso de Licencias'!$C$2) | S13: =IF('Impreso de Licencias'!A18="","",PROPER((CELL("contenido",'Impreso de Licencias'!E18)))) | AH13: LICENCIAS_migrupo_01 / 02 /…
B14: =IF('Impreso de Licencias'!A19="","",CELL("contenido",'Impreso de Licencias'!A19)) | C14: =IF('Impreso de Licencias'!A19="","",PROPER((CELL("contenido",'Impreso de Licencias'!B19)))) | D14: =IF('Impreso de Licencias'!A19="","",PROPER((CELL("contenido",'Impreso de Licencias'!C19)))) | E14: =IF('Impreso de Licencias'!A19="","",CELL("contenido",'Impreso de Licencias'!D19)) | F14: =IF(B14="","",IF($G$1="","",$G$1)) | G14: =IF(B14="","",IF('Impreso de Licencias'!U19>=18,"Mayor",IF('Impreso de Licencias'!U19>=14,"Juvenil","Infantil"))) | H14: =IF(B14="","",IF(MATCH("X",'Impreso de Licencias'!I19:N19,0)=1,"Básica A",IF(MATCH("X",'Impreso de Licencias'!I19:N19,0)=2,"Básica B",IF(MATCH("X",'Impreso de Licencias'!I19:N19,0)=3,"Básica B1",IF(MATCH("X",'Impreso de Licencias'!I19:N19,0)=4,"Plus A",IF(MATCH("X",'Impreso de Licencias'!I19:N19,0)=5,"Plus B",IF(MATCH("X",'Impreso de Licencias'!I19:N19,0)=6,"Plus B1"))))))) | I14: ='Impreso de Licencias'!O19 -> 0 | J14: =IF('Impreso de Licencias'!A19="","",PROPER((CELL("contenido",'Impreso de Licencias'!F19)))) | K14: =IF('Impreso de Licencias'!A19="","",CELL("contenido",'Impreso de Licencias'!G19)) | L14: =IF('Impreso de Licencias'!A19="","",PROPER((CELL("contenido",'Impreso de Licencias'!H19)))) | M14: =IF('Impreso de Licencias'!A19="","",'Impreso de Licencias'!$C$2) | S14: =IF('Impreso de Licencias'!A19="","",PROPER((CELL("contenido",'Impreso de Licencias'!E19)))) | AB14: =IF(ISNA(AD4),"Revisa el impreso de Licencias está incompleto","")
B15: =IF('Impreso de Licencias'!A20="","",CELL("contenido",'Impreso de Licencias'!A20)) | C15: =IF('Impreso de Licencias'!A20="","",PROPER((CELL("contenido",'Impreso de Licencias'!B20)))) | D15: =IF('Impreso de Licencias'!A20="","",PROPER((CELL("contenido",'Impreso de Licencias'!C20)))) | E15: =IF('Impreso de Licencias'!A20="","",CELL("contenido",'Impreso de Licencias'!D20)) | F15: =IF(B15="","",IF($G$1="","",$G$1)) | G15: =IF(B15="","",IF('Impreso de Licencias'!U20>=18,"Mayor",IF('Impreso de Licencias'!U20>=14,"Juvenil","Infantil"))) | H15: =IF(B15="","",IF(MATCH("X",'Impreso de Licencias'!I20:N20,0)=1,"Básica A",IF(MATCH("X",'Impreso de Licencias'!I20:N20,0)=2,"Básica B",IF(MATCH("X",'Impreso de Licencias'!I20:N20,0)=3,"Básica B1",IF(MATCH("X",'Impreso de Licencias'!I20:N20,0)=4,"Plus A",IF(MATCH("X",'Impreso de Licencias'!I20:N20,0)=5,"Plus B",IF(MATCH("X",'Impreso de Licencias'!I20:N20,0)=6,"Plus B1"))))))) | I15: ='Impreso de Licencias'!O20 -> 0 | J15: =IF('Impreso de Licencias'!A20="","",PROPER((CELL("contenido",'Impreso de Licencias'!F20)))) | K15: =IF('Impreso de Licencias'!A20="","",CELL("contenido",'Impreso de Licencias'!G20)) | L15: =IF('Impreso de Licencias'!A20="","",PROPER((CELL("contenido",'Impreso de Licencias'!H20)))) | M15: =IF('Impreso de Licencias'!A20="","",'Impreso de Licencias'!$C$2) | S15: =IF('Impreso de Licencias'!A20="","",PROPER((CELL("contenido",'Impreso de Licencias'!E20)))) | V15: *La cuota de club se debe ingresar por separado por transferencia a la cuenta de la FCE
B16: =IF('Impreso de Licencias'!A21="","",CELL("contenido",'Impreso de Licencias'!A21)) | C16: =IF('Impreso de Licencias'!A21="","",PROPER((CELL("contenido",'Impreso de Licencias'!B21)))) | D16: =IF('Impreso de Licencias'!A21="","",PROPER((CELL("contenido",'Impreso de Licencias'!C21)))) | E16: =IF('Impreso de Licencias'!A21="","",CELL("contenido",'Impreso de Licencias'!D21)) | F16: =IF(B16="","",IF($G$1="","",$G$1)) | G16: =IF(B16="","",IF('Impreso de Licencias'!U21>=18,"Mayor",IF('Impreso de Licencias'!U21>=14,"Juvenil","Infantil"))) | H16: =IF(B16="","",IF(MATCH("X",'Impreso de Licencias'!I21:N21,0)=1,"Básica A",IF(MATCH("X",'Impreso de Licencias'!I21:N21,0)=2,"Básica B",IF(MATCH("X",'Impreso de Licencias'!I21:N21,0)=3,"Básica B1",IF(MATCH("X",'Impreso de Licencias'!I21:N21,0)=4,"Plus A",IF(MATCH("X",'Impreso de Licencias'!I21:N21,0)=5,"Plus B",IF(MATCH("X",'Impreso de Licencias'!I21:N21,0)=6,"Plus B1"))))))) | I16: ='Impreso de Licencias'!O21 -> 0 | J16: =IF('Impreso de Licencias'!A21="","",PROPER((CELL("contenido",'Impreso de Licencias'!F21)))) | K16: =IF('Impreso de Licencias'!A21="","",CELL("contenido",'Impreso de Licencias'!G21)) | L16: =IF('Impreso de Licencias'!A21="","",PROPER((CELL("contenido",'Impreso de Licencias'!H21)))) | M16: =IF('Impreso de Licencias'!A21="","",'Impreso de Licencias'!$C$2) | S16: =IF('Impreso de Licencias'!A21="","",PROPER((CELL("contenido",'Impreso de Licencias'!E21))))
B17: =IF('Impreso de Licencias'!A22="","",CELL("contenido",'Impreso de Licencias'!A22)) | C17: =IF('Impreso de Licencias'!A22="","",PROPER((CELL("contenido",'Impreso de Licencias'!B22)))) | D17: =IF('Impreso de Licencias'!A22="","",PROPER((CELL("contenido",'Impreso de Licencias'!C22)))) | E17: =IF('Impreso de Licencias'!A22="","",CELL("contenido",'Impreso de Licencias'!D22)) | F17: =IF(B17="","",IF($G$1="","",$G$1)) | G17: =IF(B17="","",IF('Impreso de Licencias'!U22>=18,"Mayor",IF('Impreso de Licencias'!U22>=14,"Juvenil","Infantil"))) | H17: =IF(B17="","",IF(MATCH("X",'Impreso de Licencias'!I22:N22,0)=1,"Básica A",IF(MATCH("X",'Impreso de Licencias'!I22:N22,0)=2,"Básica B",IF(MATCH("X",'Impreso de Licencias'!I22:N22,0)=3,"Básica B1",IF(MATCH("X",'Impreso de Licencias'!I22:N22,0)=4,"Plus A",IF(MATCH("X",'Impreso de Licencias'!I22:N22,0)=5,"Plus B",IF(MATCH("X",'Impreso de Licencias'!I22:N22,0)=6,"Plus B1"))))))) | I17: ='Impreso de Licencias'!O22 -> 0 | J17: =IF('Impreso de Licencias'!A22="","",PROPER((CELL("contenido",'Impreso de Licencias'!F22)))) | K17: =IF('Impreso de Licencias'!A22="","",CELL("contenido",'Impreso de Licencias'!G22)) | L17: =IF('Impreso de Licencias'!A22="","",PROPER((CELL("contenido",'Impreso de Licencias'!H22)))) | M17: =IF('Impreso de Licencias'!A22="","",'Impreso de Licencias'!$C$2) | S17: =IF('Impreso de Licencias'!A22="","",PROPER((CELL("contenido",'Impreso de Licencias'!E22))))
B18: =IF('Impreso de Licencias'!A23="","",CELL("contenido",'Impreso de Licencias'!A23)) | C18: =IF('Impreso de Licencias'!A23="","",PROPER((CELL("contenido",'Impreso de Licencias'!B23)))) | D18: =IF('Impreso de Licencias'!A23="","",PROPER((CELL("contenido",'Impreso de Licencias'!C23)))) | E18: =IF('Impreso de Licencias'!A23="","",CELL("contenido",'Impreso de Licencias'!D23)) | F18: =IF(B18="","",IF($G$1="","",$G$1)) | G18: =IF(B18="","",IF('Impreso de Licencias'!U23>=18,"Mayor",IF('Impreso de Licencias'!U23>=14,"Juvenil","Infantil"))) | H18: =IF(B18="","",IF(MATCH("X",'Impreso de Licencias'!I23:N23,0)=1,"Básica A",IF(MATCH("X",'Impreso de Licencias'!I23:N23,0)=2,"Básica B",IF(MATCH("X",'Impreso de Licencias'!I23:N23,0)=3,"Básica B1",IF(MATCH("X",'Impreso de Licencias'!I23:N23,0)=4,"Plus A",IF(MATCH("X",'Impreso de Licencias'!I23:N23,0)=5,"Plus B",IF(MATCH("X",'Impreso de Licencias'!I23:N23,0)=6,"Plus B1"))))))) | I18: ='Impreso de Licencias'!O23 -> 0 | J18: =IF('Impreso de Licencias'!A23="","",PROPER((CELL("contenido",'Impreso de Licencias'!F23)))) | K18: =IF('Impreso de Licencias'!A23="","",CELL("contenido",'Impreso de Licencias'!G23)) | L18: =IF('Impreso de Licencias'!A23="","",PROPER((CELL("contenido",'Impreso de Licencias'!H23)))) | M18: =IF('Impreso de Licencias'!A23="","",'Impreso de Licencias'!$C$2) | S18: =IF('Impreso de Licencias'!A23="","",PROPER((CELL("contenido",'Impreso de Licencias'!E23)))) | V18: Cuota FEE. Habilitación/Apoyo | Y18: 1
B19: =IF('Impreso de Licencias'!A24="","",CELL("contenido",'Impreso de Licencias'!A24)) | C19: =IF('Impreso de Licencias'!A24="","",PROPER((CELL("contenido",'Impreso de Licencias'!B24)))) | D19: =IF('Impreso de Licencias'!A24="","",PROPER((CELL("contenido",'Impreso de Licencias'!C24)))) | E19: =IF('Impreso de Licencias'!A24="","",CELL("contenido",'Impreso de Licencias'!D24)) | F19: =IF(B19="","",IF($G$1="","",$G$1)) | G19: =IF(B19="","",IF('Impreso de Licencias'!U24>=18,"Mayor",IF('Impreso de Licencias'!U24>=14,"Juvenil","Infantil"))) | H19: =IF(B19="","",IF(MATCH("X",'Impreso de Licencias'!I24:N24,0)=1,"Básica A",IF(MATCH("X",'Impreso de Licencias'!I24:N24,0)=2,"Básica B",IF(MATCH("X",'Impreso de Licencias'!I24:N24,0)=3,"Básica B1",IF(MATCH("X",'Impreso de Licencias'!I24:N24,0)=4,"Plus A",IF(MATCH("X",'Impreso de Licencias'!I24:N24,0)=5,"Plus B",IF(MATCH("X",'Impreso de Licencias'!I24:N24,0)=6,"Plus B1"))))))) | I19: ='Impreso de Licencias'!O24 -> 0 | J19: =IF('Impreso de Licencias'!A24="","",PROPER((CELL("contenido",'Impreso de Licencias'!F24)))) | K19: =IF('Impreso de Licencias'!A24="","",CELL("contenido",'Impreso de Licencias'!G24)) | L19: =IF('Impreso de Licencias'!A24="","",PROPER((CELL("contenido",'Impreso de Licencias'!H24)))) | M19: =IF('Impreso de Licencias'!A24="","",'Impreso de Licencias'!$C$2) | S19: =IF('Impreso de Licencias'!A24="","",PROPER((CELL("contenido",'Impreso de Licencias'!E24)))) | V19: * La habilitación supone 1€ más al total del pago de la licencia SOLO para las liencias de adultos. Para que la Hablitacion sea efectiva, se debe aceptar el tratamiento de datos para la FEE en el documento anexo de Ley de Protección de Datos.
B20: =IF('Impreso de Licencias'!A25="","",CELL("contenido",'Impreso de Licencias'!A25)) | C20: =IF('Impreso de Licencias'!A25="","",PROPER((CELL("contenido",'Impreso de Licencias'!B25)))) | D20: =IF('Impreso de Licencias'!A25="","",PROPER((CELL("contenido",'Impreso de Licencias'!C25)))) | E20: =IF('Impreso de Licencias'!A25="","",CELL("contenido",'Impreso de Licencias'!D25)) | F20: =IF(B20="","",IF($G$1="","",$G$1)) | G20: =IF(B20="","",IF('Impreso de Licencias'!U25>=18,"Mayor",IF('Impreso de Licencias'!U25>=14,"Juvenil","Infantil"))) | H20: =IF(B20="","",IF(MATCH("X",'Impreso de Licencias'!I25:N25,0)=1,"Básica A",IF(MATCH("X",'Impreso de Licencias'!I25:N25,0)=2,"Básica B",IF(MATCH("X",'Impreso de Licencias'!I25:N25,0)=3,"Básica B1",IF(MATCH("X",'Impreso de Licencias'!I25:N25,0)=4,"Plus A",IF(MATCH("X",'Impreso de Licencias'!I25:N25,0)=5,"Plus B",IF(MATCH("X",'Impreso de Licencias'!I25:N25,0)=6,"Plus B1"))))))) | I20: ='Impreso de Licencias'!O25 -> 0 | J20: =IF('Impreso de Licencias'!A25="","",PROPER((CELL("contenido",'Impreso de Licencias'!F25)))) | K20: =IF('Impreso de Licencias'!A25="","",CELL("contenido",'Impreso de Licencias'!G25)) | L20: =IF('Impreso de Licencias'!A25="","",PROPER((CELL("contenido",'Impreso de Licencias'!H25)))) | M20: =IF('Impreso de Licencias'!A25="","",'Impreso de Licencias'!$C$2) | S20: =IF('Impreso de Licencias'!A25="","",PROPER((CELL("contenido",'Impreso de Licencias'!E25)))) | V20: * En el IMPRESO DE LICENCIAS marcaremos '0' para los juveniles o infantiles que quieran habilitarse.
B21: =IF('Impreso de Licencias'!A26="","",CELL("contenido",'Impreso de Licencias'!A26)) | C21: =IF('Impreso de Licencias'!A26="","",PROPER((CELL("contenido",'Impreso de Licencias'!B26)))) | D21: =IF('Impreso de Licencias'!A26="","",PROPER((CELL("contenido",'Impreso de Licencias'!C26)))) | E21: =IF('Impreso de Licencias'!A26="","",CELL("contenido",'Impreso de Licencias'!D26)) | F21: =IF(B21="","",IF($G$1="","",$G$1)) | G21: =IF(B21="","",IF('Impreso de Licencias'!U26>=18,"Mayor",IF('Impreso de Licencias'!U26>=14,"Juvenil","Infantil"))) | H21: =IF(B21="","",IF(MATCH("X",'Impreso de Licencias'!I26:N26,0)=1,"Básica A",IF(MATCH("X",'Impreso de Licencias'!I26:N26,0)=2,"Básica B",IF(MATCH("X",'Impreso de Licencias'!I26:N26,0)=3,"Básica B1",IF(MATCH("X",'Impreso de Licencias'!I26:N26,0)=4,"Plus A",IF(MATCH("X",'Impreso de Licencias'!I26:N26,0)=5,"Plus B",IF(MATCH("X",'Impreso de Licencias'!I26:N26,0)=6,"Plus B1"))))))) | I21: ='Impreso de Licencias'!O26 -> 0 | J21: =IF('Impreso de Licencias'!A26="","",PROPER((CELL("contenido",'Impreso de Licencias'!F26)))) | K21: =IF('Impreso de Licencias'!A26="","",CELL("contenido",'Impreso de Licencias'!G26)) | L21: =IF('Impreso de Licencias'!A26="","",PROPER((CELL("contenido",'Impreso de Licencias'!H26)))) | M21: =IF('Impreso de Licencias'!A26="","",'Impreso de Licencias'!$C$2) | S21: =IF('Impreso de Licencias'!A26="","",PROPER((CELL("contenido",'Impreso de Licencias'!E26))))
B22: =IF('Impreso de Licencias'!A27="","",CELL("contenido",'Impreso de Licencias'!A27)) | C22: =IF('Impreso de Licencias'!A27="","",PROPER((CELL("contenido",'Impreso de Licencias'!B27)))) | D22: =IF('Impreso de Licencias'!A27="","",PROPER((CELL("contenido",'Impreso de Licencias'!C27)))) | E22: =IF('Impreso de Licencias'!A27="","",CELL("contenido",'Impreso de Licencias'!D27)) | F22: =IF(B22="","",IF($G$1="","",$G$1)) | G22: =IF(B22="","",IF('Impreso de Licencias'!U27>=18,"Mayor",IF('Impreso de Licencias'!U27>=14,"Juvenil","Infantil"))) | H22: =IF(B22="","",IF(MATCH("X",'Impreso de Licencias'!I27:N27,0)=1,"Básica A",IF(MATCH("X",'Impreso de Licencias'!I27:N27,0)=2,"Básica B",IF(MATCH("X",'Impreso de Licencias'!I27:N27,0)=3,"Básica B1",IF(MATCH("X",'Impreso de Licencias'!I27:N27,0)=4,"Plus A",IF(MATCH("X",'Impreso de Licencias'!I27:N27,0)=5,"Plus B",IF(MATCH("X",'Impreso de Licencias'!I27:N27,0)=6,"Plus B1"))))))) | I22: ='Impreso de Licencias'!O27 -> 0 | J22: =IF('Impreso de Licencias'!A27="","",PROPER((CELL("contenido",'Impreso de Licencias'!F27)))) | K22: =IF('Impreso de Licencias'!A27="","",CELL("contenido",'Impreso de Licencias'!G27)) | L22: =IF('Impreso de Licencias'!A27="","",PROPER((CELL("contenido",'Impreso de Licencias'!H27)))) | M22: =IF('Impreso de Licencias'!A27="","",'Impreso de Licencias'!$C$2) | S22: =IF('Impreso de Licencias'!A27="","",PROPER((CELL("contenido",'Impreso de Licencias'!E27))))
B23: =IF('Impreso de Licencias'!A28="","",CELL("contenido",'Impreso de Licencias'!A28)) | C23: =IF('Impreso de Licencias'!A28="","",PROPER((CELL("contenido",'Impreso de Licencias'!B28)))) | D23: =IF('Impreso de Licencias'!A28="","",PROPER((CELL("contenido",'Impreso de Licencias'!C28)))) | E23: =IF('Impreso de Licencias'!A28="","",CELL("contenido",'Impreso de Licencias'!D28)) | F23: =IF(B23="","",IF($G$1="","",$G$1)) | G23: =IF(B23="","",IF('Impreso de Licencias'!U28>=18,"Mayor",IF('Impreso de Licencias'!U28>=14,"Juvenil","Infantil"))) | H23: =IF(B23="","",IF(MATCH("X",'Impreso de Licencias'!I28:N28,0)=1,"Básica A",IF(MATCH("X",'Impreso de Licencias'!I28:N28,0)=2,"Básica B",IF(MATCH("X",'Impreso de Licencias'!I28:N28,0)=3,"Básica B1",IF(MATCH("X",'Impreso de Licencias'!I28:N28,0)=4,"Plus A",IF(MATCH("X",'Impreso de Licencias'!I28:N28,0)=5,"Plus B",IF(MATCH("X",'Impreso de Licencias'!I28:N28,0)=6,"Plus B1"))))))) | I23: ='Impreso de Licencias'!O28 -> 0 | J23: =IF('Impreso de Licencias'!A28="","",PROPER((CELL("contenido",'Impreso de Licencias'!F28)))) | K23: =IF('Impreso de Licencias'!A28="","",CELL("contenido",'Impreso de Licencias'!G28)) | L23: =IF('Impreso de Licencias'!A28="","",PROPER((CELL("contenido",'Impreso de Licencias'!H28)))) | M23: =IF('Impreso de Licencias'!A28="","",'Impreso de Licencias'!$C$2) | S23: =IF('Impreso de Licencias'!A28="","",PROPER((CELL("contenido",'Impreso de Licencias'!E28))))
B24: =IF('Impreso de Licencias'!A29="","",CELL("contenido",'Impreso de Licencias'!A29)) | C24: =IF('Impreso de Licencias'!A29="","",PROPER((CELL("contenido",'Impreso de Licencias'!B29)))) | D24: =IF('Impreso de Licencias'!A29="","",PROPER((CELL("contenido",'Impreso de Licencias'!C29)))) | E24: =IF('Impreso de Licencias'!A29="","",CELL("contenido",'Impreso de Licencias'!D29)) | F24: =IF(B24="","",IF($G$1="","",$G$1)) | G24: =IF(B24="","",IF('Impreso de Licencias'!U29>=18,"Mayor",IF('Impreso de Licencias'!U29>=14,"Juvenil","Infantil"))) | H24: =IF(B24="","",IF(MATCH("X",'Impreso de Licencias'!I29:N29,0)=1,"Básica A",IF(MATCH("X",'Impreso de Licencias'!I29:N29,0)=2,"Básica B",IF(MATCH("X",'Impreso de Licencias'!I29:N29,0)=3,"Básica B1",IF(MATCH("X",'Impreso de Licencias'!I29:N29,0)=4,"Plus A",IF(MATCH("X",'Impreso de Licencias'!I29:N29,0)=5,"Plus B",IF(MATCH("X",'Impreso de Licencias'!I29:N29,0)=6,"Plus B1"))))))) | I24: ='Impreso de Licencias'!O29 -> 0 | J24: =IF('Impreso de Licencias'!A29="","",PROPER((CELL("contenido",'Impreso de Licencias'!F29)))) | K24: =IF('Impreso de Licencias'!A29="","",CELL("contenido",'Impreso de Licencias'!G29)) | L24: =IF('Impreso de Licencias'!A29="","",PROPER((CELL("contenido",'Impreso de Licencias'!H29)))) | M24: =IF('Impreso de Licencias'!A29="","",'Impreso de Licencias'!$C$2) | S24: =IF('Impreso de Licencias'!A29="","",PROPER((CELL("contenido",'Impreso de Licencias'!E29))))
B25: =IF('Impreso de Licencias'!A30="","",CELL("contenido",'Impreso de Licencias'!A30)) | C25: =IF('Impreso de Licencias'!A30="","",PROPER((CELL("contenido",'Impreso de Licencias'!B30)))) | D25: =IF('Impreso de Licencias'!A30="","",PROPER((CELL("contenido",'Impreso de Licencias'!C30)))) | E25: =IF('Impreso de Licencias'!A30="","",CELL("contenido",'Impreso de Licencias'!D30)) | F25: =IF(B25="","",IF($G$1="","",$G$1)) | G25: =IF(B25="","",IF('Impreso de Licencias'!U30>=18,"Mayor",IF('Impreso de Licencias'!U30>=14,"Juvenil","Infantil"))) | H25: =IF(B25="","",IF(MATCH("X",'Impreso de Licencias'!I30:N30,0)=1,"Básica A",IF(MATCH("X",'Impreso de Licencias'!I30:N30,0)=2,"Básica B",IF(MATCH("X",'Impreso de Licencias'!I30:N30,0)=3,"Básica B1",IF(MATCH("X",'Impreso de Licencias'!I30:N30,0)=4,"Plus A",IF(MATCH("X",'Impreso de Licencias'!I30:N30,0)=5,"Plus B",IF(MATCH("X",'Impreso de Licencias'!I30:N30,0)=6,"Plus B1"))))))) | I25: ='Impreso de Licencias'!O30 -> 0 | J25: =IF('Impreso de Licencias'!A30="","",PROPER((CELL("contenido",'Impreso de Licencias'!F30)))) | K25: =IF('Impreso de Licencias'!A30="","",CELL("contenido",'Impreso de Licencias'!G30)) | L25: =IF('Impreso de Licencias'!A30="","",PROPER((CELL("contenido",'Impreso de Licencias'!H30)))) | M25: =IF('Impreso de Licencias'!A30="","",'Impreso de Licencias'!$C$2) | S25: =IF('Impreso de Licencias'!A30="","",PROPER((CELL("contenido",'Impreso de Licencias'!E30))))
B26: =IF('Impreso de Licencias'!A31="","",CELL("contenido",'Impreso de Licencias'!A31)) | C26: =IF('Impreso de Licencias'!A31="","",PROPER((CELL("contenido",'Impreso de Licencias'!B31)))) | D26: =IF('Impreso de Licencias'!A31="","",PROPER((CELL("contenido",'Impreso de Licencias'!C31)))) | E26: =IF('Impreso de Licencias'!A31="","",CELL("contenido",'Impreso de Licencias'!D31)) | F26: =IF(B26="","",IF($G$1="","",$G$1)) | G26: =IF(B26="","",IF('Impreso de Licencias'!U31>=18,"Mayor",IF('Impreso de Licencias'!U31>=14,"Juvenil","Infantil"))) | H26: =IF(B26="","",IF(MATCH("X",'Impreso de Licencias'!I31:N31,0)=1,"Básica A",IF(MATCH("X",'Impreso de Licencias'!I31:N31,0)=2,"Básica B",IF(MATCH("X",'Impreso de Licencias'!I31:N31,0)=3,"Básica B1",IF(MATCH("X",'Impreso de Licencias'!I31:N31,0)=4,"Plus A",IF(MATCH("X",'Impreso de Licencias'!I31:N31,0)=5,"Plus B",IF(MATCH("X",'Impreso de Licencias'!I31:N31,0)=6,"Plus B1"))))))) | I26: ='Impreso de Licencias'!O31 -> 0 | J26: =IF('Impreso de Licencias'!A31="","",PROPER((CELL("contenido",'Impreso de Licencias'!F31)))) | K26: =IF('Impreso de Licencias'!A31="","",CELL("contenido",'Impreso de Licencias'!G31)) | L26: =IF('Impreso de Licencias'!A31="","",PROPER((CELL("contenido",'Impreso de Licencias'!H31)))) | M26: =IF('Impreso de Licencias'!A31="","",'Impreso de Licencias'!$C$2) | S26: =IF('Impreso de Licencias'!A31="","",PROPER((CELL("contenido",'Impreso de Licencias'!E31))))
B27: =IF('Impreso de Licencias'!A32="","",CELL("contenido",'Impreso de Licencias'!A32)) | C27: =IF('Impreso de Licencias'!A32="","",PROPER((CELL("contenido",'Impreso de Licencias'!B32)))) | D27: =IF('Impreso de Licencias'!A32="","",PROPER((CELL("contenido",'Impreso de Licencias'!C32)))) | E27: =IF('Impreso de Licencias'!A32="","",CELL("contenido",'Impreso de Licencias'!D32)) | F27: =IF(B27="","",IF($G$1="","",$G$1)) | G27: =IF(B27="","",IF('Impreso de Licencias'!U32>=18,"Mayor",IF('Impreso de Licencias'!U32>=14,"Juvenil","Infantil"))) | H27: =IF(B27="","",IF(MATCH("X",'Impreso de Licencias'!I32:N32,0)=1,"Básica A",IF(MATCH("X",'Impreso de Licencias'!I32:N32,0)=2,"Básica B",IF(MATCH("X",'Impreso de Licencias'!I32:N32,0)=3,"Básica B1",IF(MATCH("X",'Impreso de Licencias'!I32:N32,0)=4,"Plus A",IF(MATCH("X",'Impreso de Licencias'!I32:N32,0)=5,"Plus B",IF(MATCH("X",'Impreso de Licencias'!I32:N32,0)=6,"Plus B1"))))))) | I27: ='Impreso de Licencias'!O32 -> 0 | J27: =IF('Impreso de Licencias'!A32="","",PROPER((CELL("contenido",'Impreso de Licencias'!F32)))) | K27: =IF('Impreso de Licencias'!A32="","",CELL("contenido",'Impreso de Licencias'!G32)) | L27: =IF('Impreso de Licencias'!A32="","",PROPER((CELL("contenido",'Impreso de Licencias'!H32)))) | M27: =IF('Impreso de Licencias'!A32="","",'Impreso de Licencias'!$C$2) | S27: =IF('Impreso de Licencias'!A32="","",PROPER((CELL("contenido",'Impreso de Licencias'!E32))))
B28: =IF('Impreso de Licencias'!A33="","",CELL("contenido",'Impreso de Licencias'!A33)) | C28: =IF('Impreso de Licencias'!A33="","",PROPER((CELL("contenido",'Impreso de Licencias'!B33)))) | D28: =IF('Impreso de Licencias'!A33="","",PROPER((CELL("contenido",'Impreso de Licencias'!C33)))) | E28: =IF('Impreso de Licencias'!A33="","",CELL("contenido",'Impreso de Licencias'!D33)) | F28: =IF(B28="","",IF($G$1="","",$G$1)) | G28: =IF(B28="","",IF('Impreso de Licencias'!U33>=18,"Mayor",IF('Impreso de Licencias'!U33>=14,"Juvenil","Infantil"))) | H28: =IF(B28="","",IF(MATCH("X",'Impreso de Licencias'!I33:N33,0)=1,"Básica A",IF(MATCH("X",'Impreso de Licencias'!I33:N33,0)=2,"Básica B",IF(MATCH("X",'Impreso de Licencias'!I33:N33,0)=3,"Básica B1",IF(MATCH("X",'Impreso de Licencias'!I33:N33,0)=4,"Plus A",IF(MATCH("X",'Impreso de Licencias'!I33:N33,0)=5,"Plus B",IF(MATCH("X",'Impreso de Licencias'!I33:N33,0)=6,"Plus B1"))))))) | I28: ='Impreso de Licencias'!O33 -> 0 | J28: =IF('Impreso de Licencias'!A33="","",PROPER((CELL("contenido",'Impreso de Licencias'!F33)))) | K28: =IF('Impreso de Licencias'!A33="","",CELL("contenido",'Impreso de Licencias'!G33)) | L28: =IF('Impreso de Licencias'!A33="","",PROPER((CELL("contenido",'Impreso de Licencias'!H33)))) | M28: =IF('Impreso de Licencias'!A33="","",'Impreso de Licencias'!$C$2) | S28: =IF('Impreso de Licencias'!A33="","",PROPER((CELL("contenido",'Impreso de Licencias'!E33))))
B29: =IF('Impreso de Licencias'!A34="","",CELL("contenido",'Impreso de Licencias'!A34)) | C29: =IF('Impreso de Licencias'!A34="","",PROPER((CELL("contenido",'Impreso de Licencias'!B34)))) | D29: =IF('Impreso de Licencias'!A34="","",PROPER((CELL("contenido",'Impreso de Licencias'!C34)))) | E29: =IF('Impreso de Licencias'!A34="","",CELL("contenido",'Impreso de Licencias'!D34)) | F29: =IF(B29="","",IF($G$1="","",$G$1)) | G29: =IF(B29="","",IF('Impreso de Licencias'!U34>=18,"Mayor",IF('Impreso de Licencias'!U34>=14,"Juvenil","Infantil"))) | H29: =IF(B29="","",IF(MATCH("X",'Impreso de Licencias'!I34:N34,0)=1,"Básica A",IF(MATCH("X",'Impreso de Licencias'!I34:N34,0)=2,"Básica B",IF(MATCH("X",'Impreso de Licencias'!I34:N34,0)=3,"Básica B1",IF(MATCH("X",'Impreso de Licencias'!I34:N34,0)=4,"Plus A",IF(MATCH("X",'Impreso de Licencias'!I34:N34,0)=5,"Plus B",IF(MATCH("X",'Impreso de Licencias'!I34:N34,0)=6,"Plus B1"))))))) | I29: ='Impreso de Licencias'!O34 -> 0 | J29: =IF('Impreso de Licencias'!A34="","",PROPER((CELL("contenido",'Impreso de Licencias'!F34)))) | K29: =IF('Impreso de Licencias'!A34="","",CELL("contenido",'Impreso de Licencias'!G34)) | L29: =IF('Impreso de Licencias'!A34="","",PROPER((CELL("contenido",'Impreso de Licencias'!H34)))) | M29: =IF('Impreso de Licencias'!A34="","",'Impreso de Licencias'!$C$2) | S29: =IF('Impreso de Licencias'!A34="","",PROPER((CELL("contenido",'Impreso de Licencias'!E34))))
B30: =IF('Impreso de Licencias'!A35="","",CELL("contenido",'Impreso de Licencias'!A35)) | C30: =IF('Impreso de Licencias'!A35="","",PROPER((CELL("contenido",'Impreso de Licencias'!B35)))) | D30: =IF('Impreso de Licencias'!A35="","",PROPER((CELL("contenido",'Impreso de Licencias'!C35)))) | E30: =IF('Impreso de Licencias'!A35="","",CELL("contenido",'Impreso de Licencias'!D35)) | F30: =IF(B30="","",IF($G$1="","",$G$1)) | G30: =IF(B30="","",IF('Impreso de Licencias'!U35>=18,"Mayor",IF('Impreso de Licencias'!U35>=14,"Juvenil","Infantil"))) | H30: =IF(B30="","",IF(MATCH("X",'Impreso de Licencias'!I35:N35,0)=1,"Básica A",IF(MATCH("X",'Impreso de Licencias'!I35:N35,0)=2,"Básica B",IF(MATCH("X",'Impreso de Licencias'!I35:N35,0)=3,"Básica B1",IF(MATCH("X",'Impreso de Licencias'!I35:N35,0)=4,"Plus A",IF(MATCH("X",'Impreso de Licencias'!I35:N35,0)=5,"Plus B",IF(MATCH("X",'Impreso de Licencias'!I35:N35,0)=6,"Plus B1"))))))) | I30: ='Impreso de Licencias'!O35 -> 0 | J30: =IF('Impreso de Licencias'!A35="","",PROPER((CELL("contenido",'Impreso de Licencias'!F35)))) | K30: =IF('Impreso de Licencias'!A35="","",CELL("contenido",'Impreso de Licencias'!G35)) | L30: =IF('Impreso de Licencias'!A35="","",PROPER((CELL("contenido",'Impreso de Licencias'!H35)))) | M30: =IF('Impreso de Licencias'!A35="","",'Impreso de Licencias'!$C$2) | S30: =IF('Impreso de Licencias'!A35="","",PROPER((CELL("contenido",'Impreso de Licencias'!E35))))
B31: =IF('Impreso de Licencias'!A36="","",CELL("contenido",'Impreso de Licencias'!A36)) | C31: =IF('Impreso de Licencias'!A36="","",PROPER((CELL("contenido",'Impreso de Licencias'!B36)))) | D31: =IF('Impreso de Licencias'!A36="","",PROPER((CELL("contenido",'Impreso de Licencias'!C36)))) | E31: =IF('Impreso de Licencias'!A36="","",CELL("contenido",'Impreso de Licencias'!D36)) | F31: =IF(B31="","",IF($G$1="","",$G$1)) | G31: =IF(B31="","",IF('Impreso de Licencias'!U36>=18,"Mayor",IF('Impreso de Licencias'!U36>=14,"Juvenil","Infantil"))) | H31: =IF(B31="","",IF(MATCH("X",'Impreso de Licencias'!I36:N36,0)=1,"Básica A",IF(MATCH("X",'Impreso de Licencias'!I36:N36,0)=2,"Básica B",IF(MATCH("X",'Impreso de Licencias'!I36:N36,0)=3,"Básica B1",IF(MATCH("X",'Impreso de Licencias'!I36:N36,0)=4,"Plus A",IF(MATCH("X",'Impreso de Licencias'!I36:N36,0)=5,"Plus B",IF(MATCH("X",'Impreso de Licencias'!I36:N36,0)=6,"Plus B1"))))))) | I31: ='Impreso de Licencias'!O36 -> 0 | J31: =IF('Impreso de Licencias'!A36="","",PROPER((CELL("contenido",'Impreso de Licencias'!F36)))) | K31: =IF('Impreso de Licencias'!A36="","",CELL("contenido",'Impreso de Licencias'!G36)) | L31: =IF('Impreso de Licencias'!A36="","",PROPER((CELL("contenido",'Impreso de Licencias'!H36)))) | M31: =IF('Impreso de Licencias'!A36="","",'Impreso de Licencias'!$C$2) | S31: =IF('Impreso de Licencias'!A36="","",PROPER((CELL("contenido",'Impreso de Licencias'!E36))))
B32: =IF('Impreso de Licencias'!A37="","",CELL("contenido",'Impreso de Licencias'!A37)) | C32: =IF('Impreso de Licencias'!A37="","",PROPER((CELL("contenido",'Impreso de Licencias'!B37)))) | D32: =IF('Impreso de Licencias'!A37="","",PROPER((CELL("contenido",'Impreso de Licencias'!C37)))) | E32: =IF('Impreso de Licencias'!A37="","",CELL("contenido",'Impreso de Licencias'!D37)) | F32: =IF(B32="","",IF($G$1="","",$G$1)) | G32: =IF(B32="","",IF('Impreso de Licencias'!U37>=18,"Mayor",IF('Impreso de Licencias'!U37>=14,"Juvenil","Infantil"))) | H32: =IF(B32="","",IF(MATCH("X",'Impreso de Licencias'!I37:N37,0)=1,"Básica A",IF(MATCH("X",'Impreso de Licencias'!I37:N37,0)=2,"Básica B",IF(MATCH("X",'Impreso de Licencias'!I37:N37,0)=3,"Básica B1",IF(MATCH("X",'Impreso de Licencias'!I37:N37,0)=4,"Plus A",IF(MATCH("X",'Impreso de Licencias'!I37:N37,0)=5,"Plus B",IF(MATCH("X",'Impreso de Licencias'!I37:N37,0)=6,"Plus B1"))))))) | I32: ='Impreso de Licencias'!O37 -> 0 | J32: =IF('Impreso de Licencias'!A37="","",PROPER((CELL("contenido",'Impreso de Licencias'!F37)))) | K32: =IF('Impreso de Licencias'!A37="","",CELL("contenido",'Impreso de Licencias'!G37)) | L32: =IF('Impreso de Licencias'!A37="","",PROPER((CELL("contenido",'Impreso de Licencias'!H37)))) | M32: =IF('Impreso de Licencias'!A37="","",'Impreso de Licencias'!$C$2) | S32: =IF('Impreso de Licencias'!A37="","",PROPER((CELL("contenido",'Impreso de Licencias'!E37))))
... B46: =IF('Impreso de Licencias'!A51="","",CELL("contenido",'Impreso de Licencias'!A51)) | C46: =IF('Impreso de Licencias'!A51="","",PROPER((CELL("contenido",'Impreso de Licencias'!B51)))) | D46: =IF('Impreso de Licencias'!A51="","",PROPER((CELL("contenido",'Impreso de Licencias'!C51)))) | E46: =IF('Impreso de Licencias'!A51="","",CELL("contenido",'Impreso de Licencias'!D51)) | F46: =IF(B46="","",IF($G$1="","",$G$1)) | G46: =IF(B46="","",IF('Impreso de Licencias'!U51>=18,"Mayor",IF('Impreso de Licencias'!U51>=14,"Juvenil","Infantil"))) | H46: =IF(B46="","",IF(MATCH("X",'Impreso de Licencias'!I51:N51,0)=1,"Básica A",IF(MATCH("X",'Impreso de Licencias'!I51:N51,0)=2,"Básica B",IF(MATCH("X",'Impreso de Licencias'!I51:N51,0)=3,"Básica B1",IF(MATCH("X",'Impreso de Licencias'!I51:N51,0)=4,"Plus A",IF(MATCH("X",'Impreso de Licencias'!I51:N51,0)=5,"Plus B",IF(MATCH("X",'Impreso de Licencias'!I51:N51,0)=6,"Plus B1"))))))) | I46: ='Impreso de Licencias'!O51 -> 0 | J46: =IF('Impreso de Licencias'!A51="","",PROPER((CELL("contenido",'Impreso de Licencias'!F51)))) | K46: =IF('Impreso de Licencias'!A51="","",CELL("contenido",'Impreso de Licencias'!G51)) | L46: =IF('Impreso de Licencias'!A51="","",PROPER((CELL("contenido",'Impreso de Licencias'!H51)))) | M46: =IF('Impreso de Licencias'!A51="","",'Impreso de Licencias'!$C$2) | S46: =IF('Impreso de Licencias'!A51="","",PROPER((CELL("contenido",'Impreso de Licencias'!E51))))
